BEGIN:VCALENDAR
VERSION:2.0
PRODID:-//MyNovaMind - ECPv6.15.14//NONSGML v1.0//EN
CALSCALE:GREGORIAN
METHOD:PUBLISH
X-WR-CALNAME:MyNovaMind
X-ORIGINAL-URL:https://mynovamind.com
X-WR-CALDESC:Events for MyNovaMind
REFRESH-INTERVAL;VALUE=DURATION:PT1H
X-Robots-Tag:noindex
X-PUBLISHED-TTL:PT1H
BEGIN:VTIMEZONE
TZID:Europe/Budapest
BEGIN:DAYLIGHT
TZOFFSETFROM:+0100
TZOFFSETTO:+0200
TZNAME:CEST
DTSTART:20230326T010000
END:DAYLIGHT
BEGIN:STANDARD
TZOFFSETFROM:+0200
TZOFFSETTO:+0100
TZNAME:CET
DTSTART:20231029T010000
END:STANDARD
BEGIN:DAYLIGHT
TZOFFSETFROM:+0100
TZOFFSETTO:+0200
TZNAME:CEST
DTSTART:20240331T010000
END:DAYLIGHT
BEGIN:STANDARD
TZOFFSETFROM:+0200
TZOFFSETTO:+0100
TZNAME:CET
DTSTART:20241027T010000
END:STANDARD
BEGIN:DAYLIGHT
TZOFFSETFROM:+0100
TZOFFSETTO:+0200
TZNAME:CEST
DTSTART:20250330T010000
END:DAYLIGHT
BEGIN:STANDARD
TZOFFSETFROM:+0200
TZOFFSETTO:+0100
TZNAME:CET
DTSTART:20251026T010000
END:STANDARD
END:VTIMEZONE
BEGIN:VEVENT
DTSTART;TZID=Europe/Budapest:20241017T170000
DTEND;TZID=Europe/Budapest:20241017T183000
DTSTAMP:20260424T105242
CREATED:20240906T130843Z
LAST-MODIFIED:20240925T151402Z
UID:5880-1729184400-1729189800@mynovamind.com
SUMMARY:AI in education- AI - based teaching\, a new approach
DESCRIPTION:  \nJoin us for an exciting and innovative webinar where we explore the relationship between Artificial Intelligence (AI) and education! Led by Molnárné Dr. László Andrea\, a globally recognized expert and creator of AI-based learning methodologies\, this session offers a completely new approach to understanding AI’s role in the classroom. \nDiscover how the very definition of knowledge is evolving in the age of AI and why it is crucial for educators to adapt their teaching methods accordingly. AI is not just a tool but an active participant in the learning process\, reshaping the relationship between teachers\, students\, and learning itself. \nIn this webinar\, you will learn about: \n\nAI: A Boon or a Threat? – Examining the benefits and potential risks of AI in education.\nThe New Role of Teachers – How educators can transform from traditional roles to facilitators of AI-driven learning.\nHomework and Academic Integrity – Addressing concerns about AI in assignments: Does it support or undermine learning?\nAI as a Skill Enhancer – Learn how AI-driven optional tasks can develop students’ critical thinking\, creativity\, and problem-solving abilities.\n\nThis webinar will challenge your current perspective on AI while equipping you with actionable strategies to effectively integrate AI into your teaching practice. Be prepared to embrace the future of education\, where the definition of knowledge is changing\, and AI plays a crucial role in shaping the next generation of learners. \nBUY TICKETS! \nREGISTER
URL:https://mynovamind.com/event/ai-in-education-ai-based-teaching-a-new-approach/
LOCATION:online
ATTACH;FMTTYPE=image/webp:https://mynovamind.com/wp-content/uploads/2024/09/DALL·E-2024-09-07-08.54.18-A-realistic-school-hallway-with-walls-fully-painted-in-deep-blue-2e2d7f-with-striped-patterns-in-red-c72122.-On-the-wall-there-is-a-clock-with-.webp
END:VEVENT
BEGIN:VEVENT
DTSTART;TZID=Europe/Budapest:20241027T080000
DTEND;TZID=Europe/Budapest:20241030T170000
DTSTAMP:20260424T105242
CREATED:20241023T082345Z
LAST-MODIFIED:20241023T082613Z
UID:6009-1730016000-1730307600@mynovamind.com
SUMMARY:MyNovaMind to Represent Hungary at Prestigious Bilbao Bootcamp 2024
DESCRIPTION:We are thrilled to announce that MyNovaMind has been selected as the sole representative from Hungary to participate in the Bilbao Bootcamp 2024. This international recognition is a significant honour\, highlighting our commitment to advancing AI integration in education. Being chosen for such a prestigious event reflects our pioneering efforts in using artificial intelligence to revolutionise teaching methodologies\, particularly in language education. \nAt MyNovaMind\, we believe in preparing students for a technology-driven future by equipping teachers with innovative AI tools that enhance classroom experiences. Our research-backed methods are designed to empower educators to seamlessly incorporate AI into their daily teaching\, making their work more efficient while enriching the learning process. \nRepresenting Hungary on an international platform like the Bilbao Bootcamp is a testament to the impact we strive to create\, not only domestically but globally. We are proud to share our vision and collaborate with like-minded innovators from around the world\, pushing the boundaries of educational excellence through technology. \nThis opportunity further strengthens our mission to provide educators with the tools they need to stay ahead in an ever-evolving field. We look forward to connecting with global leaders and contributing to the future of education at the Bilbao Bootcamp 2024.
URL:https://mynovamind.com/event/mynovamind-to-represent-hungary-at-prestigious-bilbao-bootcamp-2024/
ATTACH;FMTTYPE=image/jpeg:https://mynovamind.com/wp-content/uploads/2024/10/464194990_27472340742379234_2008595652486175737_n.jpg
END:VEVENT
END:VCALENDAR