BEGIN:VCALENDAR
VERSION:2.0
PRODID:-//MyNovaMind - ECPv6.15.14//NONSGML v1.0//EN
CALSCALE:GREGORIAN
METHOD:PUBLISH
X-ORIGINAL-URL:https://mynovamind.com
X-WR-CALDESC:Events for MyNovaMind
REFRESH-INTERVAL;VALUE=DURATION:PT1H
X-Robots-Tag:noindex
X-PUBLISHED-TTL:PT1H
BEGIN:VTIMEZONE
TZID:Europe/Budapest
BEGIN:DAYLIGHT
TZOFFSETFROM:+0100
TZOFFSETTO:+0200
TZNAME:CEST
DTSTART:20230326T010000
END:DAYLIGHT
BEGIN:STANDARD
TZOFFSETFROM:+0200
TZOFFSETTO:+0100
TZNAME:CET
DTSTART:20231029T010000
END:STANDARD
BEGIN:DAYLIGHT
TZOFFSETFROM:+0100
TZOFFSETTO:+0200
TZNAME:CEST
DTSTART:20240331T010000
END:DAYLIGHT
BEGIN:STANDARD
TZOFFSETFROM:+0200
TZOFFSETTO:+0100
TZNAME:CET
DTSTART:20241027T010000
END:STANDARD
BEGIN:DAYLIGHT
TZOFFSETFROM:+0100
TZOFFSETTO:+0200
TZNAME:CEST
DTSTART:20250330T010000
END:DAYLIGHT
BEGIN:STANDARD
TZOFFSETFROM:+0200
TZOFFSETTO:+0100
TZNAME:CET
DTSTART:20251026T010000
END:STANDARD
END:VTIMEZONE
BEGIN:VEVENT
DTSTART;VALUE=DATE:20241203
DTEND;VALUE=DATE:20241204
DTSTAMP:20260419T165658
CREATED:20241023T083439Z
LAST-MODIFIED:20241127T072657Z
UID:6012-1733184000-1733270399@mynovamind.com
SUMMARY:Humán-MI Szimbiózis: Innováció a Kreatív Ágazatokban – Egyedülálló Konferencia
DESCRIPTION:Örömmel értesítjük\, hogy a Magyar Tudományos Akadémia VEAB Gazdaság-\, Jog- és Társadalomtudományi Szakbizottsága 2024. december 3-án különleges konferenciát rendez\, melynek központi témája a Humán-MI szimbiózis\, különös tekintettel az innovációra a kreatív ágazatokban. \nNagy megtiszteltetés számunkra\, hogy a MyNovaMind alapítója is részt vesz a konferencia szervezésében. Ez a részvétel egyedülálló lehetőséget kínál arra\, hogy bemutassuk a MyNovaMind úttörő szerepét az AI (mesterséges intelligencia) és a kreatív iparágak közötti innováció előmozdításában. A konferencia célja\, hogy elősegítse az interdiszciplináris párbeszédet és kutatásokat\, valamint lehetőséget biztosítson a jövő innovációinak megértésére és formálására. \nFókuszpontok:\n– Oktatás\n– Mesterséges intelligencia\n– Kreatív ipar\n– Társadalomtudományok\n– Etika\n– Innováció\n– Interdiszciplinaritás\n– Kulturális hatások és változások \nA konferencián való részvétel nem csupán szakmai kapcsolatok építésére ad lehetőséget\, hanem a legújabb trendek és innovatív megoldások megismerésére is. \nNe hagyja ki ezt a nagyszerű alkalmat! Jelentkezési határidő: 2024. november 20. \nHelyszín: MTA-VEAB Székház\, Veszprém\, Vár utca 37. térkép \nProgram: MEGHÍVÓ-VEAB-MI-konferencia-24-12-03 \nTegye meg az első lépést a kreatív ágazatok és a mesterséges intelligencia jövője felé\, és legyen részese a humán-MI szimbiózis következő fejezetének! \nJelentkezés: itt
URL:https://mynovamind.com/event/human-mi-szimbiozis-innovacio-a-kreativ-agazatokban-egyedulallo-konferencia/
LOCATION:veszprém\, Vár út 37\, Veszprém\, Fejér\, 8200\, Hungary
END:VEVENT
BEGIN:VEVENT
DTSTART;TZID=Europe/Budapest:20241213T160000
DTEND;TZID=Europe/Budapest:20241213T170000
DTSTAMP:20260419T165658
CREATED:20241208T151910Z
LAST-MODIFIED:20241208T152511Z
UID:6146-1734105600-1734109200@mynovamind.com
SUMMARY:Semmi nem lesz már úgy\, ahogy eddig volt.....
DESCRIPTION:  \n \n  \nSokan úgy vélik\, hogy az MI technológia csak egy újabb divathullám\, amely több problémát okoz\, mint amennyit megold. Mások szerint éppen az információhiány és a félreértések miatt nem tudjuk kiaknázni a benne rejlő lehetőségeket. A társadalmi szakadék pedig pillanatról pillanatra nő. Valaki nem is tud róla\, van\, aki használja\, van\, aki fizet érte\, és nemsokára lesz\, aki havi 200 dolláros verziójához is hozzá fog férni.\nElőnyök hátrányok\, Mesterséges intelligencia az oktatásban! \nRegisztráció \n 
URL:https://mynovamind.com/event/semmi-nem-lesz-mar-ugy-ahogy-eddig-volt/
LOCATION:online
END:VEVENT
END:VCALENDAR